Workbook
Name opcije: 'BID FORM'!#REF!
Name yes: 'BID FORM'!#REF!

Sheet BID FORM
A1: Образац понуде
A2: ЛОТ1- ДЕЛОВИ МЕХАНИЧКИХ ЗАПТИВАЧА ПУМПЕ П-4
A3: НАЗИВ И СЕДИШТЕ ПОНУЂАЧА | E3: Попуњава понуђач
A4: БРОЈ ПОНУДЕ | E4: Попуњава понуђач
A5: ДАТУМ ПОНУДЕ | E5: Попуњава понуђач
A6: Р.бр. | B6: Опис Робе (Роба треба да буде у складу са Техничким задатком) | C6: Јединица мере | D6: Kоличина | E6: Jeдинична цена без ПДВ-а (у РСД) | F6: Укупна цена без ПДВ-а (у РСД)
A8: 1 | B8: =[1]Лист1!C12 -> ПРСТЕН СТАЦИОНАРНИ | C8: =[1]Лист1!G12 -> Kом | D8: =[1]Лист1!H12 -> 2
A9: 2 | B9: =[1]Лист1!C13 -> O - ПРСТЕН | C9: =[1]Лист1!G13 -> Kом | D9: =[1]Лист1!H13 -> 3
A10: 3 | B10: =[1]Лист1!C14 -> O - ПРСТЕН | C10: =[1]Лист1!G14 -> Kом | D10: =[1]Лист1!H14 -> 3
A11: 4 | B11: =[1]Лист1!C15 -> ОПРУГА | C11: =[1]Лист1!G15 -> Kом | D11: =[1]Лист1!H15 -> 3
A12: 5 | B12: =[1]Лист1!C16 -> КОРПА | C12: =[1]Лист1!G16 -> Kом | D12: =[1]Лист1!H16 -> 3
A13: 6 | B13: =[1]Лист1!C17 -> ПРСТЕН СИГУРНОСНИ | C13: =[1]Лист1!G17 -> Kом | D13: =[1]Лист1!H17 -> 3
A14: 7 | B14: =[1]Лист1!C18 -> O - ПРСТЕН | C14: =[1]Лист1!G18 -> Kом | D14: =[1]Лист1!H18 -> 3
A15: УКУПНА ВРЕДНОСТ БЕЗ ПДВ-А (у РСД): : | E15: =SUM(#REF!) -> #REF!
A16: УКУПНА ВРЕДНОСТ СА ПДВ-ОМ (у РСД) : | E16: =E15*1.2 -> #REF!
A17: Напомена:
A19: Образац понуде
A20: ЛОТ2- ДЕЛОВИ МЕХАНИЧКИХ ЗАПТИВАЧА ПУМПЕ
A21: НАЗИВ И СЕДИШТЕ ПОНУЂАЧА | E21: Попуњава понуђач
A22: БРОЈ ПОНУДЕ | E22: Попуњава понуђач
A23: ДАТУМ ПОНУДЕ | E23: Попуњава понуђач
A24: Р.бр. | B24: Опис Робе (Роба треба да буде у складу са Техничким задатком) | C24: Јединица мере | D24: Kоличина | E24: Jeдинична цена без ПДВ-а (у РСД) | F24: Укупна цена без ПДВ-а (у РСД)
A25: 1 | B25: =[2]Лист1!C12 -> ПРСТЕН СТАЦИОНАРНИ | C25: kom | D25: 3
A26: 2 | B26: =[2]Лист1!C13 -> "О" ПРСТЕН | C26: kom | D26: 3
A27: 3 | B27: =[2]Лист1!C14 -> ПРСТЕН КЛИНАСТИ | C27: kom | D27: 3
A28: 4 | B28: =[2]Лист1!C15 -> КОРПА | C28: kom | D28: 3
A29: 5 | B29: =[2]Лист1!C16 -> ДРЖАЧ ОПРУГА | C29: kom | D29: 3
A30: 6 | B30: =[2]Лист1!C17 -> "О" ПРСТЕН | C30: kom | D30: 3
A31: 7 | B31: =[2]Лист1!C18 -> "О" ПРСТЕН-ДЕКЛА | C31: kom | D31: 3
A32: 8 | B32: =[2]Лист1!C19 -> ЧАУРА МЕХ.ЗАПТИВАЧА | C32: kom | D32: 3
A33: 9 | B33: =[2]Лист1!C20 -> "О" ПРСТЕН | C33: kom | D33: 3
A34: 10 | B34: =[2]Лист1!C21 -> ПРСТЕН СТАЦИОНАРНИ | C34: kom | D34: 3
A35: 11 | B35: =[2]Лист1!C22 -> ПРСТЕН РОТАЦИОНИ | C35: kom | D35: 3
A36: УКУПНА ВРЕДНОСТ БЕЗ ПДВ-А (у РСД): : | E36: =SUM(#REF!) -> #REF!
A37: УКУПНА ВРЕДНОСТ СА ПДВ-ОМ (у РСД) : | E37: =E36*1.2 -> #REF!
A38: Напомена:
A39: Произвођач: | E39: Попуњава понуђач
A40: Услови плаћања (захтевани услови су 60 дана од дана пријема рачуна испостављеног на основу квантитативног и квалитативног пријема Робе | E40: Попуњава понуђач
A41: Рок испоруке Робе (у календарским данима): | E41: Попуњава понуђач
A42: Гарантни рок за испоручену Робу: | E42: Попуњава понуђач
A43: Паритет испоруке (захтевани паритет је Франко складиште Купца | E43: Попуњава понуђач
A44: Земља порекла Робе: | E44: Попуњава понуђач
A45: Performance Bond у износу од 10% од укупне уговорене вредности/вредности обавезујућих количина/порудџбине:
A46: РОК ВАЖНОСТИ ПОНУДЕ (у календарским данима): *Минимум 120 календарских дана од крајњег рока за доставу понуда | E46: Попуњава понуђач
A47: Име и презиме одговорног лица (потписник Уговора): | E47: Попуњава понуђач
A48: Име и презиме контакт особе: | E48: Попуњава понуђач
A49: Број телефона: | E49: Попуњава понуђач
A50: E-mail адреса: | E50: Попуњава понуђач
A51: ПИБ: | E51: Попуњава понуђач
A52: Матични број: | E52: Попуњава понуђач
A53: Потпис и печат
A54: Датум:
A95: Печат понуђача:
